BEGIN:VCALENDAR
VERSION:2.0
CALSCALE:GREGORIAN
PRODID:-//Diputació de Barcelona//DibaCMS//EN
BEGIN:VEVENT
UID:1721
DTSTAMP:20260425T214103
DTSTART:20220619T100000
DTEND:20220619T120000
SUMMARY:La bellesa i els secrets del bolets
LOCATION:
METHOD:PUBLISH
X-WR-CALNAME:smmt.ajuntament@santamariademartorelles.cat
X-WR-TIMEZONE:Europe/Madrid
DESCRIPTION:Conferència a l'Espai Lledoner

URI:https://www.santamariademartorelles.cat/actualitat/agenda/la-bellesa-i-els-secrets-del-bolets.html
CLASS:PUBLIC
END:VEVENT
END:VCALENDAR
