BEGIN:VCALENDAR
VERSION:2.0
CALSCALE:GREGORIAN
PRODID:-//Diputació de Barcelona//DibaCMS//EN
BEGIN:VEVENT
UID:1714
DTSTAMP:20260425T215143
DTSTART:20220610T190000
DTEND:20220610T200000
SUMMARY:Ple Extraordinari del 10 de juny 2022
LOCATION:Telemàtic 
METHOD:PUBLISH
X-WR-CALNAME:smmt.ajuntament@santamariademartorelles.cat
X-WR-TIMEZONE:Europe/Madrid
DESCRIPTION:Nou Ple Extraordinari el proper divendres. És presencial i també el podreu seguir en directe al canal YouTube de l’Ajuntament. 

Per més informació, seguiu aquest  ENLLAÇ

URI:https://www.santamariademartorelles.cat/actualitat/agenda/ple-extraordinari-del-10-de-juny-2022.html
CLASS:PUBLIC
END:VEVENT
END:VCALENDAR
