BEGIN:VCALENDAR
VERSION:2.0
CALSCALE:GREGORIAN
PRODID:-//Diputació de Barcelona//DibaCMS//EN
BEGIN:VEVENT
UID:1710
DTSTAMP:20260425T215653
DTSTART:20220604T220000
DTEND:20220604T235500
SUMMARY:Nit, Nit, Nit:  "En Clau de Tres" 
LOCATION:Plaça de l'Església 
METHOD:PUBLISH
X-WR-CALNAME:smmt.ajuntament@santamariademartorelles.cat
X-WR-TIMEZONE:Europe/Madrid
DESCRIPTION:A la plaça de l'Església

URI:https://www.santamariademartorelles.cat/actualitat/agenda/nit-nit-nit-en-clau-de-tres-.html
CLASS:PUBLIC
END:VEVENT
END:VCALENDAR
