BEGIN:VCALENDAR
VERSION:2.0
CALSCALE:GREGORIAN
PRODID:-//Diputació de Barcelona//DibaCMS//EN
BEGIN:VEVENT
UID:1693
DTSTAMP:20260426T002759
DTSTART:20220610T153000
DTEND:20220610T180000
SUMMARY:Bibliobús La Mola
LOCATION:Parc de la Torrentera 
METHOD:PUBLISH
X-WR-CALNAME:smmt.ajuntament@santamariademartorelles.cat
X-WR-TIMEZONE:Europe/Madrid
DESCRIPTION:Al Parc de la Torrentera

URI:https://www.santamariademartorelles.cat/actualitat/agenda/1693-bibliobus-la-mola.html
CLASS:PUBLIC
END:VEVENT
END:VCALENDAR
