BEGIN:VCALENDAR
VERSION:2.0
CALSCALE:GREGORIAN
PRODID:-//Diputació de Barcelona//DibaCMS//EN
BEGIN:VEVENT
UID:1680
DTSTAMP:20260425T213056
DTSTART:20220520T113000
DTEND:20220520T133000
SUMMARY:Bibliobús La Mola
LOCATION:Parc de la Torrentera 
METHOD:PUBLISH
X-WR-CALNAME:smmt.ajuntament@santamariademartorelles.cat
X-WR-TIMEZONE:Europe/Madrid
DESCRIPTION:Al Parc de la Torrentera

URI:https://www.santamariademartorelles.cat/actualitat/agenda/1680-bibliobus-la-mola.html
CLASS:PUBLIC
END:VEVENT
END:VCALENDAR
