BEGIN:VCALENDAR
VERSION:2.0
CALSCALE:GREGORIAN
PRODID:-//Diputació de Barcelona//DibaCMS//EN
BEGIN:VEVENT
UID:1664
DTSTAMP:20260426T015831
DTSTART:20220515T121500
DTEND:20220515T133000
SUMMARY:Teatre al carrer
LOCATION:
METHOD:PUBLISH
X-WR-CALNAME:smmt.ajuntament@santamariademartorelles.cat
X-WR-TIMEZONE:Europe/Madrid
DESCRIPTION:A càrrec de la Companyia ESCANDALL TEATRE

URI:https://www.santamariademartorelles.cat/actualitat/agenda/teatre-al-carrer.html
CLASS:PUBLIC
END:VEVENT
END:VCALENDAR
