BEGIN:VCALENDAR
VERSION:2.0
CALSCALE:GREGORIAN
PRODID:-//Diputació de Barcelona//DibaCMS//EN
BEGIN:VEVENT
UID:1655
DTSTAMP:20260425T213212
DTSTART:20220515T110000
DTEND:20220515T120000
SUMMARY:Enotast de primavera
LOCATION:
METHOD:PUBLISH
X-WR-CALNAME:smmt.ajuntament@santamariademartorelles.cat
X-WR-TIMEZONE:Europe/Madrid
DESCRIPTION:A la terrassa de la Marisqueria La Flor

Cal inscripció prèvia

URI:https://www.santamariademartorelles.cat/actualitat/agenda/enotast-de-primavera.html
CLASS:PUBLIC
END:VEVENT
END:VCALENDAR
