BEGIN:VCALENDAR
VERSION:2.0
CALSCALE:GREGORIAN
PRODID:-//Diputació de Barcelona//DibaCMS//EN
BEGIN:VEVENT
UID:1654
DTSTAMP:20260421T031339
DTSTART:20221016T110000
DTEND:20221016T130000
SUMMARY:Enotast de tardor
LOCATION:
METHOD:PUBLISH
X-WR-CALNAME:smmt.ajuntament@santamariademartorelles.cat
X-WR-TIMEZONE:Europe/Madrid
DESCRIPTION:A la plaça de l'Església, quarta edició de l'Enotast

URI:https://www.santamariademartorelles.cat/actualitat/agenda/1654-enotast-de-tardor.html
CLASS:PUBLIC
END:VEVENT
END:VCALENDAR
