BEGIN:VCALENDAR
VERSION:2.0
CALSCALE:GREGORIAN
PRODID:-//Diputació de Barcelona//DibaCMS//EN
BEGIN:VEVENT
UID:1648
DTSTAMP:20260425T180428
DTSTART:20210429T170000
DTEND:20210429T180000
SUMMARY:Bibliobús La Mola
LOCATION:Parc de la Torrentera 
METHOD:PUBLISH
X-WR-CALNAME:smmt.ajuntament@santamariademartorelles.cat
X-WR-TIMEZONE:Europe/Madrid
DESCRIPTION:Conte per infants

URI:https://www.santamariademartorelles.cat/actualitat/agenda/1648-bibliobus-la-mola.html
CLASS:PUBLIC
END:VEVENT
END:VCALENDAR
