BEGIN:VCALENDAR
VERSION:2.0
CALSCALE:GREGORIAN
PRODID:-//Diputació de Barcelona//DibaCMS//EN
BEGIN:VEVENT
UID:1637
DTSTAMP:20260426T002931
DTSTART:20220317T183000
DTEND:20220317T203000
SUMMARY:Taller: Recuperació de la Memòria Històrica de les dones
LOCATION:Espai Lledoner 
METHOD:PUBLISH
X-WR-CALNAME:smmt.ajuntament@santamariademartorelles.cat
X-WR-TIMEZONE:Europe/Madrid
DESCRIPTION:
URI:https://www.santamariademartorelles.cat/actualitat/agenda/taller-recuperacio-de-la-memoria-historica-de-les-dones.html
CLASS:PUBLIC
END:VEVENT
END:VCALENDAR
