BEGIN:VCALENDAR
VERSION:2.0
CALSCALE:GREGORIAN
PRODID:-//Diputació de Barcelona//DibaCMS//EN
BEGIN:VEVENT
UID:1636
DTSTAMP:20260425T231236
DTSTART:20220312T170000
DTEND:20220312T193000
SUMMARY:Projecció pel·lícula "Figuras Ocultas", debat i exposició
LOCATION:Espai Lledoner 
METHOD:PUBLISH
X-WR-CALNAME:smmt.ajuntament@santamariademartorelles.cat
X-WR-TIMEZONE:Europe/Madrid
DESCRIPTION:
URI:https://www.santamariademartorelles.cat/actualitat/agenda/projeccio-pellicula-figuras-ocultas-debat-i-exposicio.html
CLASS:PUBLIC
END:VEVENT
END:VCALENDAR
