BEGIN:VCALENDAR
VERSION:2.0
CALSCALE:GREGORIAN
PRODID:-//Diputació de Barcelona//DibaCMS//EN
BEGIN:VEVENT
UID:1621
DTSTAMP:20260425T213344
DTSTART:20220512T203000
DTEND:20220512T220000
SUMMARY:Ple ordinari
LOCATION:
METHOD:PUBLISH
X-WR-CALNAME:smmt.ajuntament@santamariademartorelles.cat
X-WR-TIMEZONE:Europe/Madrid
DESCRIPTION:Presencial. Dijous a les 20,30h a la Sala de Plens de l'Ajuntament

Podreu seguir-lo en directe, de nou i amb uns segons d’endarreriment, al canal YouTube de l’Ajuntament

URI:https://www.santamariademartorelles.cat/actualitat/agenda/1621-ple-ordinari.html
CLASS:PUBLIC
END:VEVENT
END:VCALENDAR
