BEGIN:VCALENDAR
VERSION:2.0
CALSCALE:GREGORIAN
PRODID:-//Diputació de Barcelona//DibaCMS//EN
BEGIN:VEVENT
UID:1620
DTSTAMP:20260426T014500
DTSTART:20220310T203000
DTEND:20220310T220000
SUMMARY:PLE ORDINARI
LOCATION:
METHOD:PUBLISH
X-WR-CALNAME:smmt.ajuntament@santamariademartorelles.cat
X-WR-TIMEZONE:Europe/Madrid
DESCRIPTION:Presencial. Dijous a les 20,30h a la Sala de Plens de l'Ajuntament

Podreu seguir-lo en directe, de nou i amb uns segons d’endarreriment, al canal YouTube de l’Ajuntament.

URI:https://www.santamariademartorelles.cat/actualitat/agenda/ple-ordinari.html
CLASS:PUBLIC
END:VEVENT
END:VCALENDAR
