BEGIN:VCALENDAR
VERSION:2.0
CALSCALE:GREGORIAN
PRODID:-//Diputació de Barcelona//DibaCMS//EN
BEGIN:VEVENT
UID:1617
DTSTAMP:20260425T231045
DTSTART:20220403T090000
DTEND:20220403T130000
SUMMARY:Escola de Natura: OCELLS AL VOL
LOCATION:Plaça Joan Matons 
METHOD:PUBLISH
X-WR-CALNAME:smmt.ajuntament@santamariademartorelles.cat
X-WR-TIMEZONE:Europe/Madrid
DESCRIPTION:
URI:https://www.santamariademartorelles.cat/actualitat/agenda/escola-de-natura-ocells-al-vol.html
CLASS:PUBLIC
END:VEVENT
END:VCALENDAR
