BEGIN:VCALENDAR
VERSION:2.0
CALSCALE:GREGORIAN
PRODID:-//Diputació de Barcelona//DibaCMS//EN
BEGIN:VEVENT
UID:1615
DTSTAMP:20260425T231114
DTSTART:20220209T080000
DTEND:20220209T190000
SUMMARY:Tancament OAC
LOCATION:
METHOD:PUBLISH
X-WR-CALNAME:smmt.ajuntament@santamariademartorelles.cat
X-WR-TIMEZONE:Europe/Madrid
DESCRIPTION:Per tasques de manteniment informàtic, el dimecres 9 de febrer, l'oficina d'assistència ciutadana de l'Ajuntament romandrà tancada.

URI:https://www.santamariademartorelles.cat/actualitat/agenda/tancament-oac.html
CLASS:PUBLIC
END:VEVENT
END:VCALENDAR
