BEGIN:VCALENDAR
VERSION:2.0
CALSCALE:GREGORIAN
PRODID:-//Diputació de Barcelona//DibaCMS//EN
BEGIN:VEVENT
UID:1567
DTSTAMP:20260425T230530
DTSTART:20211128T183000
DTEND:20211128T203000
SUMMARY:Teatre-Fòrum: "SENSE LÍMITS"
LOCATION:
METHOD:PUBLISH
X-WR-CALNAME:smmt.ajuntament@santamariademartorelles.cat
X-WR-TIMEZONE:Europe/Madrid
DESCRIPTION:L'Ajuntament de Martorelles ens convida a assistir a aquesta sessió de Teatre-Fòrum al Celler de Can Carrencà.

Per més detalls i manera d'inscriure's, mireu la pàgina web

URI:https://www.santamariademartorelles.cat/actualitat/agenda/teatre-forum-sense-limits.html
CLASS:PUBLIC
END:VEVENT
END:VCALENDAR
