BEGIN:VCALENDAR
VERSION:2.0
CALSCALE:GREGORIAN
PRODID:-//Diputació de Barcelona//DibaCMS//EN
BEGIN:VEVENT
UID:1565
DTSTAMP:20260425T200450
DTSTART:20211125T190000
DTEND:20211125T200000
SUMMARY:25N- Dia contra la violència masclista
LOCATION:
METHOD:PUBLISH
X-WR-CALNAME:smmt.ajuntament@santamariademartorelles.cat
X-WR-TIMEZONE:Europe/Madrid
DESCRIPTION:Concentració i lectura del Manifest contra la Violència masclista davant l'Ajuntament

URI:https://www.santamariademartorelles.cat/actualitat/agenda/1565-25n-dia-contra-la-violencia-masclista.html
CLASS:PUBLIC
END:VEVENT
END:VCALENDAR
