BEGIN:VCALENDAR
VERSION:2.0
CALSCALE:GREGORIAN
PRODID:-//Diputació de Barcelona//DibaCMS//EN
BEGIN:VEVENT
UID:1564
DTSTAMP:20260425T184828
DTSTART:20211125T120000
DTEND:20211125T121000
SUMMARY:25N- Dia contra la violència masclista
LOCATION:Davant Ajuntament de Santa Maria de Martorelles 
METHOD:PUBLISH
X-WR-CALNAME:smmt.ajuntament@santamariademartorelles.cat
X-WR-TIMEZONE:Europe/Madrid
DESCRIPTION:Aturada de 5 minuts del personal de l'Ajuntament

URI:https://www.santamariademartorelles.cat/actualitat/agenda/25n-dia-contra-la-violencia-masclista.html
CLASS:PUBLIC
END:VEVENT
END:VCALENDAR
