BEGIN:VCALENDAR
VERSION:2.0
CALSCALE:GREGORIAN
PRODID:-//Diputació de Barcelona//DibaCMS//EN
BEGIN:VEVENT
UID:1544
DTSTAMP:20260426T003212
DTSTART:20211024T080000
DTEND:20211024T100000
SUMMARY:Sortida de Nordic Walking
LOCATION:
METHOD:PUBLISH
X-WR-CALNAME:smmt.ajuntament@santamariademartorelles.cat
X-WR-TIMEZONE:Europe/Madrid
DESCRIPTION:Aquest diumenge, l'entitat Cosiesport organitza una sessió d'iniciació de Marxa Nòrdica al Parc de la Torrentera. És una activitat gratuïta i s'ha de confirmar assistència.

Cal portar pals, aigua i roba i calçat còmodes

URI:https://www.santamariademartorelles.cat/actualitat/agenda/sortida-de-nordic-walking.html
CLASS:PUBLIC
END:VEVENT
END:VCALENDAR
