BEGIN:VCALENDAR
VERSION:2.0
CALSCALE:GREGORIAN
PRODID:-//Diputació de Barcelona//DibaCMS//EN
BEGIN:VEVENT
UID:1538
DTSTAMP:20260426T002549
DTSTART:20211020T000000
DTEND:20211029T130000
SUMMARY:Exposició i votació propostes pels Pressupostos Participatius
LOCATION:
METHOD:PUBLISH
X-WR-CALNAME:smmt.ajuntament@santamariademartorelles.cat
X-WR-TIMEZONE:Europe/Madrid
DESCRIPTION:Ja podeu votar, fins el dia 29 d'octubre a les 13h, els vostres 4 projectes preferits entre els considerats viablest per part de l'equip tècnis de l'Ajuntament.

URI:https://www.santamariademartorelles.cat/actualitat/agenda/exposicio-i-votacio-propostes-pels-pressupostos-participatius.html
CLASS:PUBLIC
END:VEVENT
END:VCALENDAR
