BEGIN:VCALENDAR
VERSION:2.0
CALSCALE:GREGORIAN
PRODID:-//Diputació de Barcelona//DibaCMS//EN
BEGIN:VEVENT
UID:1536
DTSTAMP:20260425T200730
DTSTART:20211031T120000
DTEND:20211031T140000
SUMMARY:Sortida per veure el musical Billy Elliot
LOCATION:
METHOD:PUBLISH
X-WR-CALNAME:smmt.ajuntament@santamariademartorelles.cat
X-WR-TIMEZONE:Europe/Madrid
DESCRIPTION:El dia 31 d'octubre pel matí, l'Ajuntament organitza una sortida per veure aquest musical al Teatre Victòria.

Inscripcions fins el 14 d'octubre.

Més informació

URI:https://www.santamariademartorelles.cat/actualitat/agenda/sortida-per-veure-el-musical-billy-elliot.html
CLASS:PUBLIC
END:VEVENT
END:VCALENDAR
