BEGIN:VCALENDAR
VERSION:2.0
CALSCALE:GREGORIAN
PRODID:-//Diputació de Barcelona//DibaCMS//EN
BEGIN:VEVENT
UID:1535
DTSTAMP:20260426T002616
DTSTART:20211014T200000
DTEND:20211014T220000
SUMMARY:Ple extraordinari del 14 d'octubre del 2021
LOCATION:
METHOD:PUBLISH
X-WR-CALNAME:smmt.ajuntament@santamariademartorelles.cat
X-WR-TIMEZONE:Europe/Madrid
DESCRIPTION:Aquest dijous 14 d'octubre es celebrarà un Ple extraordinari amb presència de públic a la Sala de Plens de l'Ajuntament

Més informació

URI:https://www.santamariademartorelles.cat/actualitat/agenda/1535-ple-extraordinari-del-14-doctubre-del-2021.html
CLASS:PUBLIC
END:VEVENT
END:VCALENDAR
