BEGIN:VCALENDAR
VERSION:2.0
CALSCALE:GREGORIAN
PRODID:-//Diputació de Barcelona//DibaCMS//EN
BEGIN:VEVENT
UID:1534
DTSTAMP:20260426T003248
DTSTART:20211011T000000
DTEND:20211011T000000
SUMMARY:Ple extraordinari 14 d'octubre del 2021
LOCATION:
METHOD:PUBLISH
X-WR-CALNAME:smmt.ajuntament@santamariademartorelles.cat
X-WR-TIMEZONE:Europe/Madrid
DESCRIPTION:Aquest dijous 14 d'octubre es celebrarà un Ple extraordinari a la Sala de Plens de l'Ajuntament

URI:https://www.santamariademartorelles.cat/actualitat/agenda/ple-extraordinari-14-doctubre-del-2021.html
CLASS:PUBLIC
END:VEVENT
END:VCALENDAR
