BEGIN:VCALENDAR
VERSION:2.0
CALSCALE:GREGORIAN
PRODID:-//Diputació de Barcelona//DibaCMS//EN
BEGIN:VEVENT
UID:1518
DTSTAMP:20260425T230514
DTSTART:20210904T100000
DTEND:20210905T210000
SUMMARY:Festival Guspira
LOCATION:
METHOD:PUBLISH
X-WR-CALNAME:smmt.ajuntament@santamariademartorelles.cat
X-WR-TIMEZONE:Europe/Madrid
DESCRIPTION:
URI:https://www.santamariademartorelles.cat/actualitat/agenda/1518-festival-guspira.html
CLASS:PUBLIC
END:VEVENT
END:VCALENDAR
