BEGIN:VCALENDAR
VERSION:2.0
CALSCALE:GREGORIAN
PRODID:-//Diputació de Barcelona//DibaCMS//EN
BEGIN:VEVENT
UID:1508
DTSTAMP:20260425T190811
DTSTART:20210721T200000
DTEND:20210721T220000
SUMMARY:Ple del 21 de juliol de 2021 - Ordinari
LOCATION:Plaça Mossèn Josep Paituví,1 08106 Santa Maria de Martorelles
METHOD:PUBLISH
X-WR-CALNAME:smmt.ajuntament@santamariademartorelles.cat
X-WR-TIMEZONE:Europe/Madrid
DESCRIPTION:
URI:https://www.santamariademartorelles.cat/actualitat/agenda/1508-ple-del-21-de-juliol-de-2021-ordinari.html
CLASS:PUBLIC
END:VEVENT
END:VCALENDAR
