BEGIN:VCALENDAR
VERSION:2.0
CALSCALE:GREGORIAN
PRODID:-//Diputació de Barcelona//DibaCMS//EN
BEGIN:VEVENT
UID:1501
DTSTAMP:20260425T190954
DTSTART:20210702T213000
DTEND:20210702T230000
SUMMARY:Conmemoració del Dia internacional de l'Orgull LGTBIQ+
LOCATION:08106 Santa Maria de Martorelles
METHOD:PUBLISH
X-WR-CALNAME:smmt.ajuntament@santamariademartorelles.cat
X-WR-TIMEZONE:Europe/Madrid
DESCRIPTION:
URI:https://www.santamariademartorelles.cat/actualitat/agenda/conmemoracio-del-dia-internacional-de-lorgull-lgtbiq.html
CLASS:PUBLIC
END:VEVENT
END:VCALENDAR
