BEGIN:VCALENDAR
VERSION:2.0
CALSCALE:GREGORIAN
PRODID:-//Diputació de Barcelona//DibaCMS//EN
BEGIN:VEVENT
UID:1494
DTSTAMP:20260425T220919
DTSTART:20210703T193000
DTEND:20210703T225500
SUMMARY:Nit de ratapinyades a Santa Maria de Martorelles
LOCATION:08106 Santa Maria de Martorelles
METHOD:PUBLISH
X-WR-CALNAME:smmt.ajuntament@santamariademartorelles.cat
X-WR-TIMEZONE:Europe/Madrid
DESCRIPTION:L'ajuntament organitza un seguit d'activitats de descoberta del medi sota la temàtica del coneixement de la ratapinyada.

URI:https://www.santamariademartorelles.cat/actualitat/agenda/nit-de-ratapinyades-a-santa-maria-de-martorelles.html
CLASS:PUBLIC
END:VEVENT
END:VCALENDAR
