BEGIN:VCALENDAR
VERSION:2.0
CALSCALE:GREGORIAN
PRODID:-//Diputació de Barcelona//DibaCMS//EN
BEGIN:VEVENT
UID:1488
DTSTAMP:20260425T203259
DTSTART:20210616T200000
DTEND:20210616T220000
SUMMARY:Ple del 16 de juny de 2021 - Extraordinari
LOCATION:
METHOD:PUBLISH
X-WR-CALNAME:smmt.ajuntament@santamariademartorelles.cat
X-WR-TIMEZONE:Europe/Madrid
DESCRIPTION:Ha estat convocat un nou Ple Extraordinari el proper dimecres 16 de juny a les 20:00h.

Aquest Ple es farà a porta tancada per seguir les mesures de seguretat indicades pel PROCICAT però per garantir l'accés públic podreu seguir-lo en directe, de nou i amb uns segons d’endarreriment, al canal YouTube de l’Ajuntament.

URI:https://www.santamariademartorelles.cat/actualitat/agenda/1488-ple-del-16-de-juny-de-2021-extraordinari.html
CLASS:PUBLIC
END:VEVENT
END:VCALENDAR
