BEGIN:VCALENDAR
VERSION:2.0
CALSCALE:GREGORIAN
PRODID:-//Diputació de Barcelona//DibaCMS//EN
BEGIN:VEVENT
UID:1477
DTSTAMP:20260425T180211
DTSTART:20210605T220000
DTEND:20210605T235500
SUMMARY:NIT NIT NIT 2021
LOCATION:
METHOD:PUBLISH
X-WR-CALNAME:smmt.ajuntament@santamariademartorelles.cat
X-WR-TIMEZONE:Europe/Madrid
DESCRIPTION:
URI:https://www.santamariademartorelles.cat/actualitat/agenda/nit-nit-nit-2021.html
CLASS:PUBLIC
END:VEVENT
END:VCALENDAR
