BEGIN:VCALENDAR
VERSION:2.0
CALSCALE:GREGORIAN
PRODID:-//Diputació de Barcelona//DibaCMS//EN
BEGIN:VEVENT
UID:1476
DTSTAMP:20260425T180504
DTSTART:20210605T100000
DTEND:20210605T140000
SUMMARY:Dia Internacional del Medi Ambient
LOCATION:
METHOD:PUBLISH
X-WR-CALNAME:smmt.ajuntament@santamariademartorelles.cat
X-WR-TIMEZONE:Europe/Madrid
DESCRIPTION:
URI:https://www.santamariademartorelles.cat/actualitat/agenda/1476-dia-internacional-del-medi-ambient.html
CLASS:PUBLIC
END:VEVENT
END:VCALENDAR
