BEGIN:VCALENDAR
VERSION:2.0
CALSCALE:GREGORIAN
PRODID:-//Diputació de Barcelona//DibaCMS//EN
BEGIN:VEVENT
UID:1469
DTSTAMP:20260425T180322
DTSTART:20210521T110000
DTEND:20210521T130000
SUMMARY:Bibliobús La Mola
LOCATION:Parc de la Torrentera 
METHOD:PUBLISH
X-WR-CALNAME:smmt.ajuntament@santamariademartorelles.cat
X-WR-TIMEZONE:Europe/Madrid
DESCRIPTION:
URI:https://www.santamariademartorelles.cat/actualitat/agenda/1469-bibliobus-la-mola.html
CLASS:PUBLIC
END:VEVENT
END:VCALENDAR
