BEGIN:VCALENDAR
VERSION:2.0
CALSCALE:GREGORIAN
PRODID:-//Diputació de Barcelona//DibaCMS//EN
BEGIN:VEVENT
UID:1467
DTSTAMP:20260425T175910
DTSTART:20210519T200000
DTEND:20210519T220000
SUMMARY:Ple del 19 de maig de 2021 - Ordinari
LOCATION:
METHOD:PUBLISH
X-WR-CALNAME:smmt.ajuntament@santamariademartorelles.cat
X-WR-TIMEZONE:Europe/Madrid
DESCRIPTION:Ha estat convocat un nou Ple Ordinari el proper dimecres 19 de maig a les 20:00h.

Aquest Ple es farà a porta tancada per seguir les mesures de seguretat indicades pel PROCICAT però per garantir l'accés públic podreu seguir-lo en directe, de nou i amb uns segons d’endarreriment, al canal YouTube de l’Ajuntament.

URI:https://www.santamariademartorelles.cat/actualitat/agenda/1467-ple-del-19-de-maig-de-2021-ordinari.html
CLASS:PUBLIC
END:VEVENT
END:VCALENDAR
