BEGIN:VCALENDAR
VERSION:2.0
CALSCALE:GREGORIAN
PRODID:-//Diputació de Barcelona//DibaCMS//EN
BEGIN:VEVENT
UID:1454
DTSTAMP:20260425T203355
DTSTART:20210428T200000
DTEND:20210428T220000
SUMMARY:Ple del 28 d'abril de 2021 - Extraordinari Telemàtic
LOCATION:Telemàtic 
METHOD:PUBLISH
X-WR-CALNAME:smmt.ajuntament@santamariademartorelles.cat
X-WR-TIMEZONE:Europe/Madrid
DESCRIPTION:Ha estat convocat un nou Ple Extraordinari Telemàtic el proper dimecres 28 d'abril a les 20:00h.

Podreu seguir-lo en directe, de nou i amb uns segons d’endarreriment, al canal YouTube de l’Ajuntament.

URI:https://www.santamariademartorelles.cat/actualitat/agenda/ple-del-28-dabril-de-2021-extraordinari-telematic.html
CLASS:PUBLIC
END:VEVENT
END:VCALENDAR
